BEGIN:VCALENDAR
VERSION:2.0
PRODID:-//ArtEZ Illustration Design - ECPv6.10.3//NONSGML v1.0//EN
CALSCALE:GREGORIAN
METHOD:PUBLISH
X-ORIGINAL-URL:https://illustrationdesign.artez.nl
X-WR-CALDESC:Evenementen voor ArtEZ Illustration Design
REFRESH-INTERVAL;VALUE=DURATION:PT1H
X-Robots-Tag:noindex
X-PUBLISHED-TTL:PT1H
BEGIN:VTIMEZONE
TZID:UTC
BEGIN:STANDARD
TZOFFSETFROM:+0000
TZOFFSETTO:+0000
TZNAME:UTC
DTSTART:20220101T000000
END:STANDARD
END:VTIMEZONE
BEGIN:VEVENT
DTSTART;TZID=UTC:20220701T090000
DTEND;TZID=UTC:20220710T180000
DTSTAMP:20260426T024543
CREATED:20220603T095833Z
LAST-MODIFIED:20220603T095833Z
UID:3396-1656666000-1657476000@illustrationdesign.artez.nl
SUMMARY:Finals 2022
DESCRIPTION:Ieder jaar studeren zo’n 600 studenten af van onze academies. In hun eindwerk laten zij zien wie ze zijn en waar ze voor staan. Dit eindwerk presenteren ze aan de wereld tijdens de finals. In presentaties\, (virtuele) dans- en theatervoorstellingen\, concerten\, exposities en modeshows; alles open voor het grote publiek. Online of offline\, ArtEZ finals is hét podium voor de nieuwste lichting kunstenaars\, artiesten en (muzikale) professionals. Het werk van de Illustration Design-studenten is van 1 juli tot en met 10 juli te bewonderen aan de Rhijnvis Feithlaan te Zwolle.  \n \nLinks: Amber Hyacinth\, midden: Ilse Knook\, rechts: Carlyn Westerink
URL:https://illustrationdesign.artez.nl/event/finals-2022/
LOCATION:ArtEZ Hogeschool voor de Kunsten\, Rhijnvis Feithlaan 50\, Zwolle\, Overijssel\, 8021AM\, Nederland
ATTACH;FMTTYPE=image/png:https://illustrationdesign.artez.nl/wp-content/upfiles/Schermafbeelding-2022-06-03-om-11.38.48.png
END:VEVENT
END:VCALENDAR